BEGIN:VCALENDAR
VERSION:2.0
PRODID:icalendar-ruby
CALSCALE:GREGORIAN
METHOD:PUBLISH
BEGIN:VEVENT
DTSTAMP:20231206T134105Z
UID:cb328094-30f4-4929-a0cf-4cdc23dd8202
DTSTART;VALUE=DATE:20250101
DTEND;VALUE=DATE:20250102
DESCRIPTION:Neujahr in Deutschland - Importiert von Ferienwiki.de
SUMMARY:Neujahr in Deutschland
END:VEVENT
BEGIN:VEVENT
DTSTAMP:20231206T134105Z
UID:9849f125-fe37-4540-ba8c-3a9241cd1512
DTSTART;VALUE=DATE:20250418
DTEND;VALUE=DATE:20250419
DESCRIPTION:Karfreitag in Deutschland - Importiert von Ferienwiki.de
SUMMARY:Karfreitag in Deutschland
END:VEVENT
BEGIN:VEVENT
DTSTAMP:20231206T134105Z
UID:80d029fd-951e-4d6a-a6e3-31cd093cd484
DTSTART;VALUE=DATE:20250421
DTEND;VALUE=DATE:20250422
DESCRIPTION:Ostermontag in Deutschland - Importiert von Ferienwiki.de
SUMMARY:Ostermontag in Deutschland
END:VEVENT
BEGIN:VEVENT
DTSTAMP:20231206T134105Z
UID:c785a707-1c13-4bae-a381-5fd88bb694f7
DTSTART;VALUE=DATE:20250501
DTEND;VALUE=DATE:20250502
DESCRIPTION:Tag der Arbeit in Deutschland - Importiert von Ferienwiki.de
SUMMARY:Tag der Arbeit in Deutschland
END:VEVENT
BEGIN:VEVENT
DTSTAMP:20231206T134105Z
UID:9bf4f56c-f4f9-465d-912d-93f44a552128
DTSTART;VALUE=DATE:20250529
DTEND;VALUE=DATE:20250530
DESCRIPTION:Christi Himmelfahrt in Deutschland - Importiert von Ferienwiki.
 de
SUMMARY:Christi Himmelfahrt in Deutschland
END:VEVENT
BEGIN:VEVENT
DTSTAMP:20231206T134105Z
UID:9222d2d1-44ed-4687-89e2-f9748faad80b
DTSTART;VALUE=DATE:20250609
DTEND;VALUE=DATE:20250610
DESCRIPTION:Pfingstmontag in Deutschland - Importiert von Ferienwiki.de
SUMMARY:Pfingstmontag in Deutschland
END:VEVENT
BEGIN:VEVENT
DTSTAMP:20231206T134105Z
UID:cc187217-1089-457e-af7c-9e997f2cfa5c
DTSTART;VALUE=DATE:20251003
DTEND;VALUE=DATE:20251004
DESCRIPTION:Tag der Deutschen Einheit - Importiert von Ferienwiki.de
SUMMARY:Tag der Deutschen Einheit
END:VEVENT
BEGIN:VEVENT
DTSTAMP:20231206T134105Z
UID:f2006077-38d5-40e4-9311-4cf4baa32fd4
DTSTART;VALUE=DATE:20251031
DTEND;VALUE=DATE:20251101
DESCRIPTION:Reformationstag in Deutschland - Importiert von Ferienwiki.de
SUMMARY:Reformationstag in Deutschland
END:VEVENT
BEGIN:VEVENT
DTSTAMP:20231206T134105Z
UID:bb167f89-5e75-45b5-a408-9b2d2d0d4e47
DTSTART;VALUE=DATE:20251225
DTEND;VALUE=DATE:20251226
DESCRIPTION:1. Weihnachtstag in Deutschland - Importiert von Ferienwiki.de
SUMMARY:1. Weihnachtstag in Deutschland
END:VEVENT
BEGIN:VEVENT
DTSTAMP:20231206T134105Z
UID:b286d4c6-d52b-4d17-b182-75dc86c66025
DTSTART;VALUE=DATE:20251226
DTEND;VALUE=DATE:20251227
DESCRIPTION:2. Weihnachtstag in Deutschland - Importiert von Ferienwiki.de
SUMMARY:2. Weihnachtstag in Deutschland
END:VEVENT

END:VCALENDAR